BEGIN:VCALENDAR
VERSION:2.0
PRODID:-//Plone.org//NONSGML plone.app.event//EN
X-WR-TIMEZONE:Europe/Madrid
BEGIN:VEVENT
SUMMARY:Evento de muestra
DTSTART;TZID=Europe/Madrid:20160704T150000
DTEND;TZID=Europe/Madrid:20170430T150000
DTSTAMP:20260420T091048Z
UID:74b32f037aa44c45885356d4e0cd6b9a@mapthe.upc.edu
CONTACT:Responsable evento\, adreca@noreply.com
CREATED:20160704T133252Z
LAST-MODIFIED:20160704T133254Z
LOCATION:Lugar del evento
URL:https://mapthe.upc.edu/es/eventos/evento-de-muestra
END:VEVENT
BEGIN:VTIMEZONE
TZID:Europe/Madrid
X-LIC-LOCATION:Europe/Madrid
BEGIN:DAYLIGHT
DTSTART:20160327T030000
TZNAME:CEST
TZOFFSETFROM:+0100
TZOFFSETTO:+0200
END:DAYLIGHT
BEGIN:DAYLIGHT
DTSTART:20170326T030000
TZNAME:CEST
TZOFFSETFROM:+0100
TZOFFSETTO:+0200
END:DAYLIGHT
END:VTIMEZONE
END:VCALENDAR
